BEGIN:VCALENDAR
VERSION:2.0
PRODID:-//NERRAD TOOLS - ECPv6.15.16//NONSGML v1.0//EN
CALSCALE:GREGORIAN
METHOD:PUBLISH
X-WR-CALNAME:NERRAD TOOLS
X-ORIGINAL-URL:https://www.nerradtools.com
X-WR-CALDESC:Events for NERRAD TOOLS
REFRESH-INTERVAL;VALUE=DURATION:PT1H
X-Robots-Tag:noindex
X-PUBLISHED-TTL:PT1H
BEGIN:VTIMEZONE
TZID:Europe/London
BEGIN:DAYLIGHT
TZOFFSETFROM:+0000
TZOFFSETTO:+0100
TZNAME:BST
DTSTART:20230326T010000
END:DAYLIGHT
BEGIN:STANDARD
TZOFFSETFROM:+0100
TZOFFSETTO:+0000
TZNAME:GMT
DTSTART:20231029T010000
END:STANDARD
BEGIN:DAYLIGHT
TZOFFSETFROM:+0000
TZOFFSETTO:+0100
TZNAME:BST
DTSTART:20240331T010000
END:DAYLIGHT
BEGIN:STANDARD
TZOFFSETFROM:+0100
TZOFFSETTO:+0000
TZNAME:GMT
DTSTART:20241027T010000
END:STANDARD
BEGIN:DAYLIGHT
TZOFFSETFROM:+0000
TZOFFSETTO:+0100
TZNAME:BST
DTSTART:20250330T010000
END:DAYLIGHT
BEGIN:STANDARD
TZOFFSETFROM:+0100
TZOFFSETTO:+0000
TZNAME:GMT
DTSTART:20251026T010000
END:STANDARD
END:VTIMEZONE
BEGIN:VEVENT
DTSTART;TZID=Europe/London:20241105T073000
DTEND;TZID=Europe/London:20241105T120000
DTSTAMP:20260423T010351
CREATED:20241015T075425Z
LAST-MODIFIED:20241015T092046Z
UID:10000010-1730791800-1730808000@www.nerradtools.com
SUMMARY:Graham Plumbers Merchant Ipswich
DESCRIPTION:Our trade mornings are designed to give you direct access to the tools you rely on. It’s not just about seeing products; it’s about experiencing them first-hand. Meet with industry experts\, get tips on how to maximize efficiency\, and discover upcoming innovations before anyone else. With our local merchant’s support and promotion\, plus our own efforts through social media and event materials\, we’re making these mornings an invaluable opportunity for you to gain insights and improve your trade.
URL:https://www.nerradtools.com/events/graham-plumbers-merchant-ipswich/
LOCATION:Graham Plumbers Merchant\, Anglia Parkway North\, Ipswich\, Suffolk\, IP1 5QL\, United Kingdom
CATEGORIES:Trade Morning
ATTACH;FMTTYPE=image/jpeg:https://www.nerradtools.com/wp-content/uploads/2023/05/nerrad-tools-colwyn-bay.jpg
GEO:52.0841729;1.1195572
X-APPLE-STRUCTURED-LOCATION;VALUE=URI;X-ADDRESS=Graham Plumbers Merchant Anglia Parkway North Ipswich Suffolk IP1 5QL United Kingdom;X-APPLE-RADIUS=500;X-TITLE=Anglia Parkway North:geo:1.1195572,52.0841729
END:VEVENT
END:VCALENDAR