BEGIN:VCALENDAR
VERSION:2.0
PRODID:-//NERRAD TOOLS - ECPv6.15.16//NONSGML v1.0//EN
CALSCALE:GREGORIAN
METHOD:PUBLISH
X-WR-CALNAME:NERRAD TOOLS
X-ORIGINAL-URL:https://www.nerradtools.com
X-WR-CALDESC:Events for NERRAD TOOLS
REFRESH-INTERVAL;VALUE=DURATION:PT1H
X-Robots-Tag:noindex
X-PUBLISHED-TTL:PT1H
BEGIN:VTIMEZONE
TZID:Europe/London
BEGIN:DAYLIGHT
TZOFFSETFROM:+0000
TZOFFSETTO:+0100
TZNAME:BST
DTSTART:20240331T010000
END:DAYLIGHT
BEGIN:STANDARD
TZOFFSETFROM:+0100
TZOFFSETTO:+0000
TZNAME:GMT
DTSTART:20241027T010000
END:STANDARD
BEGIN:DAYLIGHT
TZOFFSETFROM:+0000
TZOFFSETTO:+0100
TZNAME:BST
DTSTART:20250330T010000
END:DAYLIGHT
BEGIN:STANDARD
TZOFFSETFROM:+0100
TZOFFSETTO:+0000
TZNAME:GMT
DTSTART:20251026T010000
END:STANDARD
BEGIN:DAYLIGHT
TZOFFSETFROM:+0000
TZOFFSETTO:+0100
TZNAME:BST
DTSTART:20260329T010000
END:DAYLIGHT
BEGIN:STANDARD
TZOFFSETFROM:+0100
TZOFFSETTO:+0000
TZNAME:GMT
DTSTART:20261025T010000
END:STANDARD
END:VTIMEZONE
BEGIN:VEVENT
DTSTART;TZID=Europe/London:20250916T073000
DTEND;TZID=Europe/London:20250917T120000
DTSTAMP:20260422T120327
CREATED:20250908T194243Z
LAST-MODIFIED:20250908T194512Z
UID:10000027-1758007800-1758110400@www.nerradtools.com
SUMMARY:Wolseley Wolverton 2025
DESCRIPTION:
URL:https://www.nerradtools.com/events/wolseley-wolverton-2025/
LOCATION:Wolseley Wolverton\, 364 Stratford Road\, Wolverton\, Milton Keynes\, MK12 5RS\, United Kingdom
CATEGORIES:Trade Morning
ATTACH;FMTTYPE=image/png:https://www.nerradtools.com/wp-content/uploads/2023/10/nerrad-tools-trade-morning-3.png
GEO:52.0623168;-0.821901
X-APPLE-STRUCTURED-LOCATION;VALUE=URI;X-ADDRESS=Wolseley Wolverton 364 Stratford Road Wolverton Milton Keynes MK12 5RS United Kingdom;X-APPLE-RADIUS=500;X-TITLE=364 Stratford Road\, Wolverton:geo:-0.821901,52.0623168
END:VEVENT
BEGIN:VEVENT
DTSTART;TZID=Europe/London:20250917T073000
DTEND;TZID=Europe/London:20250917T120000
DTSTAMP:20260422T120327
CREATED:20250908T194532Z
LAST-MODIFIED:20250908T194727Z
UID:10000028-1758094200-1758110400@www.nerradtools.com
SUMMARY:Wolseley Spalding 2025
DESCRIPTION:
URL:https://www.nerradtools.com/events/wolseley-spalding-2025/
LOCATION:Wolseley Spalding\, St Thomas Road\, Spalding\, PE11 2XY\, United Kingdom
CATEGORIES:Trade Morning
ATTACH;FMTTYPE=image/png:https://www.nerradtools.com/wp-content/uploads/2023/10/nerrad-tools-trade-morning-3.png
GEO:52.7861688;-0.1576246
X-APPLE-STRUCTURED-LOCATION;VALUE=URI;X-ADDRESS=Wolseley Spalding St Thomas Road Spalding PE11 2XY United Kingdom;X-APPLE-RADIUS=500;X-TITLE=St Thomas Road:geo:-0.1576246,52.7861688
END:VEVENT
END:VCALENDAR