BEGIN:VCALENDAR
VERSION:2.0
PRODID:-//NERRAD TOOLS - ECPv6.15.16//NONSGML v1.0//EN
CALSCALE:GREGORIAN
METHOD:PUBLISH
X-ORIGINAL-URL:https://www.nerradtools.com
X-WR-CALDESC:Events for NERRAD TOOLS
REFRESH-INTERVAL;VALUE=DURATION:PT1H
X-Robots-Tag:noindex
X-PUBLISHED-TTL:PT1H
BEGIN:VTIMEZONE
TZID:Europe/London
BEGIN:DAYLIGHT
TZOFFSETFROM:+0000
TZOFFSETTO:+0100
TZNAME:BST
DTSTART:20240331T010000
END:DAYLIGHT
BEGIN:STANDARD
TZOFFSETFROM:+0100
TZOFFSETTO:+0000
TZNAME:GMT
DTSTART:20241027T010000
END:STANDARD
BEGIN:DAYLIGHT
TZOFFSETFROM:+0000
TZOFFSETTO:+0100
TZNAME:BST
DTSTART:20250330T010000
END:DAYLIGHT
BEGIN:STANDARD
TZOFFSETFROM:+0100
TZOFFSETTO:+0000
TZNAME:GMT
DTSTART:20251026T010000
END:STANDARD
BEGIN:DAYLIGHT
TZOFFSETFROM:+0000
TZOFFSETTO:+0100
TZNAME:BST
DTSTART:20260329T010000
END:DAYLIGHT
BEGIN:STANDARD
TZOFFSETFROM:+0100
TZOFFSETTO:+0000
TZNAME:GMT
DTSTART:20261025T010000
END:STANDARD
END:VTIMEZONE
BEGIN:VEVENT
DTSTART;TZID=Europe/London:20250926T073000
DTEND;TZID=Europe/London:20250926T120000
DTSTAMP:20260422T120352
CREATED:20250908T195021Z
LAST-MODIFIED:20250908T195226Z
UID:10000030-1758871800-1758888000@www.nerradtools.com
SUMMARY:Best Plumbing Supplies Shefford 2025
DESCRIPTION:
URL:https://www.nerradtools.com/events/best-plumbing-supplies-shefford-2025/
LOCATION:Best Plumbing Supplies Shefford\, Unit 3F\, St Francis Way\, Shefford\, SG17 5DZ\, United Kingdom
CATEGORIES:Trade Morning
ATTACH;FMTTYPE=image/png:https://www.nerradtools.com/wp-content/uploads/2023/10/nerrad-tools-trade-morning-3.png
GEO:52.0369548;-0.3348184
X-APPLE-STRUCTURED-LOCATION;VALUE=URI;X-ADDRESS=Best Plumbing Supplies Shefford Unit 3F St Francis Way Shefford SG17 5DZ United Kingdom;X-APPLE-RADIUS=500;X-TITLE=Unit 3F\, St Francis Way:geo:-0.3348184,52.0369548
END:VEVENT
END:VCALENDAR