BEGIN:VCALENDAR
VERSION:2.0
PRODID:-//NERRAD TOOLS - ECPv6.15.16//NONSGML v1.0//EN
CALSCALE:GREGORIAN
METHOD:PUBLISH
X-WR-CALNAME:NERRAD TOOLS
X-ORIGINAL-URL:https://www.nerradtools.com
X-WR-CALDESC:Events for NERRAD TOOLS
REFRESH-INTERVAL;VALUE=DURATION:PT1H
X-Robots-Tag:noindex
X-PUBLISHED-TTL:PT1H
BEGIN:VTIMEZONE
TZID:Europe/London
BEGIN:DAYLIGHT
TZOFFSETFROM:+0000
TZOFFSETTO:+0100
TZNAME:BST
DTSTART:20240331T010000
END:DAYLIGHT
BEGIN:STANDARD
TZOFFSETFROM:+0100
TZOFFSETTO:+0000
TZNAME:GMT
DTSTART:20241027T010000
END:STANDARD
BEGIN:DAYLIGHT
TZOFFSETFROM:+0000
TZOFFSETTO:+0100
TZNAME:BST
DTSTART:20250330T010000
END:DAYLIGHT
BEGIN:STANDARD
TZOFFSETFROM:+0100
TZOFFSETTO:+0000
TZNAME:GMT
DTSTART:20251026T010000
END:STANDARD
BEGIN:DAYLIGHT
TZOFFSETFROM:+0000
TZOFFSETTO:+0100
TZNAME:BST
DTSTART:20260329T010000
END:DAYLIGHT
BEGIN:STANDARD
TZOFFSETFROM:+0100
TZOFFSETTO:+0000
TZNAME:GMT
DTSTART:20261025T010000
END:STANDARD
END:VTIMEZONE
BEGIN:VEVENT
DTSTART;TZID=Europe/London:20250408T073000
DTEND;TZID=Europe/London:20250408T120000
DTSTAMP:20260422T172554
CREATED:20250313T135431Z
LAST-MODIFIED:20250313T142119Z
UID:10000021-1744097400-1744113600@www.nerradtools.com
SUMMARY:Jones & Shuffs 2025
DESCRIPTION:
URL:https://www.nerradtools.com/events/jones-shuffs-2025/
LOCATION:Jones & Shuffs\, Jones & Shuffs\, Lytton St\, Stoke-on-Trent\, ST4 2AG\, United Kingdom
CATEGORIES:Trade Morning
ATTACH;FMTTYPE=image/png:https://www.nerradtools.com/wp-content/uploads/2023/10/nerrad-tools-trade-morning-3.png
GEO:53.0043286;-2.1786448
X-APPLE-STRUCTURED-LOCATION;VALUE=URI;X-ADDRESS=Jones & Shuffs Jones & Shuffs Lytton St Stoke-on-Trent ST4 2AG United Kingdom;X-APPLE-RADIUS=500;X-TITLE=Jones & Shuffs\, Lytton St:geo:-2.1786448,53.0043286
END:VEVENT
BEGIN:VEVENT
DTSTART;VALUE=DATE:20250409
DTEND;VALUE=DATE:20250411
DTSTAMP:20260422T172554
CREATED:20250106T144408Z
LAST-MODIFIED:20250107T081755Z
UID:10000015-1744156800-1744329599@www.nerradtools.com
SUMMARY:Plumbex Belfast 2025
DESCRIPTION:
URL:https://www.nerradtools.com/events/plumbex-belfast-2025/
LOCATION:Plumbex Belfast\, Eikon Exhibition Centre\, Balmoral Park\, Halftown Rd\, Lisburn\, BT27 5RF\, United Kingdom
CATEGORIES:Trade Morning
ATTACH;FMTTYPE=image/png:https://www.nerradtools.com/wp-content/uploads/2023/10/nerrad-tools-trade-morning-3.png
GEO:52.4935327;-1.8904303
X-APPLE-STRUCTURED-LOCATION;VALUE=URI;X-ADDRESS=Plumbex Belfast Eikon Exhibition Centre Balmoral Park Halftown Rd Lisburn BT27 5RF United Kingdom;X-APPLE-RADIUS=500;X-TITLE=Eikon Exhibition Centre\, Balmoral Park\, Halftown Rd:geo:-1.8904303,52.4935327
END:VEVENT
END:VCALENDAR