BEGIN:VCALENDAR
VERSION:2.0
PRODID:-//NERRAD TOOLS - ECPv6.15.16//NONSGML v1.0//EN
CALSCALE:GREGORIAN
METHOD:PUBLISH
X-WR-CALNAME:NERRAD TOOLS
X-ORIGINAL-URL:https://www.nerradtools.com
X-WR-CALDESC:Events for NERRAD TOOLS
REFRESH-INTERVAL;VALUE=DURATION:PT1H
X-Robots-Tag:noindex
X-PUBLISHED-TTL:PT1H
BEGIN:VTIMEZONE
TZID:Europe/London
BEGIN:DAYLIGHT
TZOFFSETFROM:+0000
TZOFFSETTO:+0100
TZNAME:BST
DTSTART:20240331T010000
END:DAYLIGHT
BEGIN:STANDARD
TZOFFSETFROM:+0100
TZOFFSETTO:+0000
TZNAME:GMT
DTSTART:20241027T010000
END:STANDARD
BEGIN:DAYLIGHT
TZOFFSETFROM:+0000
TZOFFSETTO:+0100
TZNAME:BST
DTSTART:20250330T010000
END:DAYLIGHT
BEGIN:STANDARD
TZOFFSETFROM:+0100
TZOFFSETTO:+0000
TZNAME:GMT
DTSTART:20251026T010000
END:STANDARD
BEGIN:DAYLIGHT
TZOFFSETFROM:+0000
TZOFFSETTO:+0100
TZNAME:BST
DTSTART:20260329T010000
END:DAYLIGHT
BEGIN:STANDARD
TZOFFSETFROM:+0100
TZOFFSETTO:+0000
TZNAME:GMT
DTSTART:20261025T010000
END:STANDARD
END:VTIMEZONE
BEGIN:VEVENT
DTSTART;TZID=Europe/London:20250807T080000
DTEND;TZID=Europe/London:20250807T150000
DTSTAMP:20260422T120342
CREATED:20250702T172627Z
LAST-MODIFIED:20250702T172826Z
UID:10000025-1754553600-1754578800@www.nerradtools.com
SUMMARY:City Plumbing Supplies Workington 2025
DESCRIPTION:
URL:https://www.nerradtools.com/events/city-plumbing-supplies-workington-2025/
LOCATION:City Plumbing Supplies Workington\, Unit 5 Enterprise CT\, Lakes Road\, Derwent Howe Ind Estate\, Workington\, CA14 3YP\, United Kingdom
CATEGORIES:Trade Morning
ATTACH;FMTTYPE=image/jpeg:https://www.nerradtools.com/wp-content/uploads/2023/05/nerrad-tools-colwyn-bay.jpg
GEO:54.636107;-3.568133
X-APPLE-STRUCTURED-LOCATION;VALUE=URI;X-ADDRESS=City Plumbing Supplies Workington Unit 5 Enterprise CT Lakes Road Derwent Howe Ind Estate Workington CA14 3YP United Kingdom;X-APPLE-RADIUS=500;X-TITLE=Unit 5 Enterprise CT\, Lakes Road\, Derwent Howe Ind Estate:geo:-3.568133,54.636107
END:VEVENT
END:VCALENDAR