BEGIN:VCALENDAR
VERSION:2.0
PRODID:-//NERRAD TOOLS - ECPv6.15.16//NONSGML v1.0//EN
CALSCALE:GREGORIAN
METHOD:PUBLISH
X-ORIGINAL-URL:https://www.nerradtools.com
X-WR-CALDESC:Events for NERRAD TOOLS
REFRESH-INTERVAL;VALUE=DURATION:PT1H
X-Robots-Tag:noindex
X-PUBLISHED-TTL:PT1H
BEGIN:VTIMEZONE
TZID:Europe/London
BEGIN:DAYLIGHT
TZOFFSETFROM:+0000
TZOFFSETTO:+0100
TZNAME:BST
DTSTART:20230326T010000
END:DAYLIGHT
BEGIN:STANDARD
TZOFFSETFROM:+0100
TZOFFSETTO:+0000
TZNAME:GMT
DTSTART:20231029T010000
END:STANDARD
BEGIN:DAYLIGHT
TZOFFSETFROM:+0000
TZOFFSETTO:+0100
TZNAME:BST
DTSTART:20240331T010000
END:DAYLIGHT
BEGIN:STANDARD
TZOFFSETFROM:+0100
TZOFFSETTO:+0000
TZNAME:GMT
DTSTART:20241027T010000
END:STANDARD
BEGIN:DAYLIGHT
TZOFFSETFROM:+0000
TZOFFSETTO:+0100
TZNAME:BST
DTSTART:20250330T010000
END:DAYLIGHT
BEGIN:STANDARD
TZOFFSETFROM:+0100
TZOFFSETTO:+0000
TZNAME:GMT
DTSTART:20251026T010000
END:STANDARD
END:VTIMEZONE
BEGIN:VEVENT
DTSTART;TZID=Europe/London:20241017T080000
DTEND;TZID=Europe/London:20241017T120000
DTSTAMP:20260420T130127
CREATED:20240924T120923Z
LAST-MODIFIED:20240924T120923Z
UID:10000006-1729152000-1729166400@www.nerradtools.com
SUMMARY:Barrow Wolseley
DESCRIPTION:
URL:https://www.nerradtools.com/events/barrow-wolseley/
LOCATION:Barrow Wolseley\, County Park Road\, Barrow in furness\, LA14 4BQ\, United Kingdom
CATEGORIES:Trade Morning
ATTACH;FMTTYPE=image/jpeg:https://www.nerradtools.com/wp-content/uploads/2023/05/nerrad-tools-colwyn-bay.jpg
GEO:54.1342884;-3.2355841
X-APPLE-STRUCTURED-LOCATION;VALUE=URI;X-ADDRESS=Barrow Wolseley County Park Road Barrow in furness LA14 4BQ United Kingdom;X-APPLE-RADIUS=500;X-TITLE=County Park Road:geo:-3.2355841,54.1342884
END:VEVENT
END:VCALENDAR