BEGIN:VCALENDAR
VERSION:2.0
PRODID:-//NERRAD TOOLS - ECPv6.15.16//NONSGML v1.0//EN
CALSCALE:GREGORIAN
METHOD:PUBLISH
X-ORIGINAL-URL:https://www.nerradtools.com
X-WR-CALDESC:Events for NERRAD TOOLS
REFRESH-INTERVAL;VALUE=DURATION:PT1H
X-Robots-Tag:noindex
X-PUBLISHED-TTL:PT1H
BEGIN:VTIMEZONE
TZID:Europe/London
BEGIN:DAYLIGHT
TZOFFSETFROM:+0000
TZOFFSETTO:+0100
TZNAME:BST
DTSTART:20240331T010000
END:DAYLIGHT
BEGIN:STANDARD
TZOFFSETFROM:+0100
TZOFFSETTO:+0000
TZNAME:GMT
DTSTART:20241027T010000
END:STANDARD
BEGIN:DAYLIGHT
TZOFFSETFROM:+0000
TZOFFSETTO:+0100
TZNAME:BST
DTSTART:20250330T010000
END:DAYLIGHT
BEGIN:STANDARD
TZOFFSETFROM:+0100
TZOFFSETTO:+0000
TZNAME:GMT
DTSTART:20251026T010000
END:STANDARD
BEGIN:DAYLIGHT
TZOFFSETFROM:+0000
TZOFFSETTO:+0100
TZNAME:BST
DTSTART:20260329T010000
END:DAYLIGHT
BEGIN:STANDARD
TZOFFSETFROM:+0100
TZOFFSETTO:+0000
TZNAME:GMT
DTSTART:20261025T010000
END:STANDARD
END:VTIMEZONE
BEGIN:VEVENT
DTSTART;TZID=Europe/London:20250228T073000
DTEND;TZID=Europe/London:20250228T120000
DTSTAMP:20260420T130424
CREATED:20250219T095646Z
LAST-MODIFIED:20250219T100141Z
UID:10000020-1740727800-1740744000@www.nerradtools.com
SUMMARY:Plumbase Newport February 2025
DESCRIPTION:
URL:https://www.nerradtools.com/events/plumbase-newport-february-2025/
LOCATION:Plumbase Newport\, 13\, Maesglas Industrial Estate\, Maesglas Ave\,\, Newport\, NP20 2NN\, United Kingdom
CATEGORIES:Toolfair
ATTACH;FMTTYPE=image/png:https://www.nerradtools.com/wp-content/uploads/2023/10/nerrad-tools-trade-morning-3.png
GEO:52.4935327;-1.8904303
X-APPLE-STRUCTURED-LOCATION;VALUE=URI;X-ADDRESS=Plumbase Newport 13 Maesglas Industrial Estate Maesglas Ave Newport NP20 2NN United Kingdom;X-APPLE-RADIUS=500;X-TITLE=13\, Maesglas Industrial Estate\, Maesglas Ave\,:geo:-1.8904303,52.4935327
END:VEVENT
END:VCALENDAR